BEGIN:VCALENDAR
VERSION:2.0
PRODID:-//Ensemble Paroissial de La Pique - ECPv5.3.1//NONSGML v1.0//EN
CALSCALE:GREGORIAN
METHOD:PUBLISH
X-WR-CALNAME:Ensemble Paroissial de La Pique
X-ORIGINAL-URL:http://paroisseluchon.com
X-WR-CALDESC:évènements pour Ensemble Paroissial de La Pique
BEGIN:VTIMEZONE
TZID:Europe/Paris
BEGIN:DAYLIGHT
TZOFFSETFROM:+0100
TZOFFSETTO:+0200
TZNAME:CEST
DTSTART:20250330T010000
END:DAYLIGHT
BEGIN:STANDARD
TZOFFSETFROM:+0200
TZOFFSETTO:+0100
TZNAME:CET
DTSTART:20251026T010000
END:STANDARD
BEGIN:DAYLIGHT
TZOFFSETFROM:+0100
TZOFFSETTO:+0200
TZNAME:CEST
DTSTART:20260329T010000
END:DAYLIGHT
BEGIN:STANDARD
TZOFFSETFROM:+0200
TZOFFSETTO:+0100
TZNAME:CET
DTSTART:20261025T010000
END:STANDARD
END:VTIMEZONE
BEGIN:VEVENT
DTSTART;TZID=Europe/Paris:20250903T080000
DTEND;TZID=Europe/Paris:20260815T170000
DTSTAMP:20260421T130840
CREATED:20250903T153923Z
LAST-MODIFIED:20250903T154055Z
UID:4292-1756886400-1786813200@paroisseluchon.com
SUMMARY:Homélie du 15 août 2025 (Mgr BATUT)
DESCRIPTION:Homélie du 15 août 2025 (Mgr BATUT) \nCliquez ci-dessus
URL:http://paroisseluchon.com/event/homelie-du-15-aout-2025-mgr-batut/
END:VEVENT
END:VCALENDAR