BEGIN:VCALENDAR
VERSION:2.0
PRODID:-//Ensemble Paroissial de La Pique - ECPv5.3.1//NONSGML v1.0//EN
CALSCALE:GREGORIAN
METHOD:PUBLISH
X-WR-CALNAME:Ensemble Paroissial de La Pique
X-ORIGINAL-URL:http://paroisseluchon.com
X-WR-CALDESC:évènements pour Ensemble Paroissial de La Pique
BEGIN:VTIMEZONE
TZID:Europe/Paris
BEGIN:DAYLIGHT
TZOFFSETFROM:+0100
TZOFFSETTO:+0200
TZNAME:CEST
DTSTART:20240331T010000
END:DAYLIGHT
BEGIN:STANDARD
TZOFFSETFROM:+0200
TZOFFSETTO:+0100
TZNAME:CET
DTSTART:20241027T010000
END:STANDARD
END:VTIMEZONE
BEGIN:VEVENT
DTSTART;TZID=Europe/Paris:20240106T180000
DTEND;TZID=Europe/Paris:20240106T190000
DTSTAMP:20260419T145439
CREATED:20240102T135652Z
LAST-MODIFIED:20240102T135652Z
UID:4155-1704564000-1704567600@paroisseluchon.com
SUMMARY:Messe anticipée de l’Épiphanie du Seigneur
DESCRIPTION:Messe anticipée de l’Épiphanie du Seigneur : \n– 18h00 : Marignac (messe des Défunts) \n– 18h00 : Garin
URL:http://paroisseluchon.com/event/messe-anticipee-de-lepiphanie-du-seigneur/
END:VEVENT
END:VCALENDAR