BEGIN:VCALENDAR
VERSION:2.0
PRODID:-//Ensemble Paroissial de La Pique - ECPv5.3.1//NONSGML v1.0//EN
CALSCALE:GREGORIAN
METHOD:PUBLISH
X-WR-CALNAME:Ensemble Paroissial de La Pique
X-ORIGINAL-URL:http://paroisseluchon.com
X-WR-CALDESC:évènements pour Ensemble Paroissial de La Pique
BEGIN:VTIMEZONE
TZID:Europe/Paris
BEGIN:DAYLIGHT
TZOFFSETFROM:+0100
TZOFFSETTO:+0200
TZNAME:CEST
DTSTART:20250330T010000
END:DAYLIGHT
BEGIN:STANDARD
TZOFFSETFROM:+0200
TZOFFSETTO:+0100
TZNAME:CET
DTSTART:20251026T010000
END:STANDARD
END:VTIMEZONE
BEGIN:VEVENT
DTSTART;TZID=Europe/Paris:20250815T103000
DTEND;TZID=Europe/Paris:20250815T120000
DTSTAMP:20260419T145353
CREATED:20250810T145039Z
LAST-MODIFIED:20250810T151304Z
UID:4260-1755253800-1755259200@paroisseluchon.com
SUMMARY:Messe du 15 août : Assomption de la Vierge Marie
DESCRIPTION:10h00 : Procession de la Vierge Marie depuis l’église de Luchon \n10h30 : Messe au Parc des Thermes
URL:http://paroisseluchon.com/event/messe-du-15-aout-assomption-de-la-vierge-marie/
LOCATION:Église Notre-Dame-de-l’Assomption (Luchon)\, 7 Avenue Carnot\, Bagnères-de-Luchon\, 31110\, France
END:VEVENT
END:VCALENDAR