BEGIN:VCALENDAR
VERSION:2.0
PRODID:-//Ensemble Paroissial de La Pique - ECPv5.3.1//NONSGML v1.0//EN
CALSCALE:GREGORIAN
METHOD:PUBLISH
X-WR-CALNAME:Ensemble Paroissial de La Pique
X-ORIGINAL-URL:http://paroisseluchon.com
X-WR-CALDESC:évènements pour Ensemble Paroissial de La Pique
BEGIN:VTIMEZONE
TZID:Europe/Paris
BEGIN:DAYLIGHT
TZOFFSETFROM:+0100
TZOFFSETTO:+0200
TZNAME:CEST
DTSTART:20240331T010000
END:DAYLIGHT
BEGIN:STANDARD
TZOFFSETFROM:+0200
TZOFFSETTO:+0100
TZNAME:CET
DTSTART:20241027T010000
END:STANDARD
END:VTIMEZONE
BEGIN:VEVENT
DTSTART;TZID=Europe/Paris:20240203T180000
DTEND;TZID=Europe/Paris:20240203T190000
DTSTAMP:20260419T145103
CREATED:20240102T194835Z
LAST-MODIFIED:20240102T194918Z
UID:4163-1706983200-1706986800@paroisseluchon.com
SUMMARY:Messe Patronale des Guides à cheval
DESCRIPTION:Samedi 03 février aura lieu la Messe patronale des Guides à cheval avec la Bénédiction des pains \nRendez-vous à 18h00 à Luchon
URL:http://paroisseluchon.com/event/messe-patronale-des-guides-a-cheval/
LOCATION:Église Notre-Dame-de-l’Assomption (Luchon)\, 7 Avenue Carnot\, Bagnères-de-Luchon\, 31110\, France
END:VEVENT
END:VCALENDAR