BEGIN:VCALENDAR
VERSION:2.0
PRODID:-//Ensemble Paroissial de La Pique - ECPv5.3.1//NONSGML v1.0//EN
CALSCALE:GREGORIAN
METHOD:PUBLISH
X-WR-CALNAME:Ensemble Paroissial de La Pique
X-ORIGINAL-URL:http://paroisseluchon.com
X-WR-CALDESC:évènements pour Ensemble Paroissial de La Pique
BEGIN:VTIMEZONE
TZID:Europe/Paris
BEGIN:DAYLIGHT
TZOFFSETFROM:+0100
TZOFFSETTO:+0200
TZNAME:CEST
DTSTART:20240331T010000
END:DAYLIGHT
BEGIN:STANDARD
TZOFFSETFROM:+0200
TZOFFSETTO:+0100
TZNAME:CET
DTSTART:20241027T010000
END:STANDARD
END:VTIMEZONE
BEGIN:VEVENT
DTSTART;VALUE=DATE:20240101
DTEND;VALUE=DATE:20240102
DTSTAMP:20260419T145721
CREATED:20231213T161153Z
LAST-MODIFIED:20231213T161153Z
UID:4110-1704067200-1704153599@paroisseluchon.com
SUMMARY:Messes de Sainte Marie Mère de Dieu (1er janvier)
DESCRIPTION:10h30 : Marignac\n11h00 : Luchon
URL:http://paroisseluchon.com/event/messes-de-sainte-marie-mere-de-dieu-1er-janvier/
END:VEVENT
END:VCALENDAR