BEGIN:VCALENDAR
VERSION:2.0
PRODID:-//Ensemble Paroissial de La Pique - ECPv5.3.1//NONSGML v1.0//EN
CALSCALE:GREGORIAN
METHOD:PUBLISH
X-WR-CALNAME:Ensemble Paroissial de La Pique
X-ORIGINAL-URL:http://paroisseluchon.com
X-WR-CALDESC:évènements pour Ensemble Paroissial de La Pique
BEGIN:VTIMEZONE
TZID:Europe/Paris
BEGIN:DAYLIGHT
TZOFFSETFROM:+0100
TZOFFSETTO:+0200
TZNAME:CEST
DTSTART:20230326T010000
END:DAYLIGHT
BEGIN:STANDARD
TZOFFSETFROM:+0200
TZOFFSETTO:+0100
TZNAME:CET
DTSTART:20231029T010000
END:STANDARD
END:VTIMEZONE
BEGIN:VEVENT
DTSTART;TZID=Europe/Paris:20231227T150000
DTEND;TZID=Europe/Paris:20231227T160000
DTSTAMP:20260421T125049
CREATED:20231213T160633Z
LAST-MODIFIED:20231213T160633Z
UID:4105-1703689200-1703692800@paroisseluchon.com
SUMMARY:Prière à la Crèche
DESCRIPTION:Un temps de prière à la Crèche de l’église de Boutx vous est proposé à 15h.
URL:http://paroisseluchon.com/event/priere-a-la-creche/
LOCATION:Eglise de Boutx\, 25 Cabanous\, Boutx\, 31440
END:VEVENT
END:VCALENDAR